Package: dmrseq Version: 1.20.1 Command: chmod a+r dmrseq -R && F:\biocbuild\bbs-3.17-bioc\R\bin\R.exe CMD build --keep-empty-dirs --no-resave-data dmrseq StartedAt: 2023-10-15 18:48:35 -0400 (Sun, 15 Oct 2023) EndedAt: 2023-10-15 18:57:11 -0400 (Sun, 15 Oct 2023) EllapsedTime: 516.0 seconds RetCode: 0 Status: OK PackageFile: dmrseq_1.20.1.tar.gz PackageFileSize: 2.668 MiB