Package: dmrseq Version: 1.20.1 Command: rm -rf dmrseq.buildbin-libdir && mkdir dmrseq.buildbin-libdir && F:\biocbuild\bbs-3.17-bioc\R\bin\R.exe CMD INSTALL --build --library=dmrseq.buildbin-libdir dmrseq_1.20.1.tar.gz StartedAt: 2023-10-16 08:43:20 -0400 (Mon, 16 Oct 2023) EndedAt: 2023-10-16 08:44:19 -0400 (Mon, 16 Oct 2023) EllapsedTime: 58.3 seconds RetCode: 0 Status: OK PackageFile: dmrseq_1.20.1.zip PackageFileSize: 4.674 MiB