Package: dmrseq Version: 1.20.1 Command: /home/biocbuild/bbs-3.17-bioc/R/bin/R CMD check --install=check:dmrseq.install-out.txt --library=/home/biocbuild/bbs-3.17-bioc/R/site-library --timings dmrseq_1.20.1.tar.gz StartedAt: 2023-10-15 20:54:26 -0400 (Sun, 15 Oct 2023) EndedAt: 2023-10-15 21:02:13 -0400 (Sun, 15 Oct 2023) EllapsedTime: 466.4 seconds RetCode: 0 Status: OK CheckDir: dmrseq.Rcheck Warnings: 0