Package: dmrseq Version: 1.20.1 Command: /home/biocbuild/bbs-3.17-bioc/R/bin/R CMD build --keep-empty-dirs --no-resave-data dmrseq StartedAt: 2023-10-15 16:38:21 -0400 (Sun, 15 Oct 2023) EndedAt: 2023-10-15 16:41:04 -0400 (Sun, 15 Oct 2023) EllapsedTime: 163.3 seconds RetCode: 0 Status: OK PackageFile: dmrseq_1.20.1.tar.gz PackageFileSize: 2.798 MiB