Package: dks Version: 1.46.0 Command: rm -rf dks.buildbin-libdir && mkdir dks.buildbin-libdir && /Users/biocbuild/BBS/utils/build-universal.sh dks_1.46.0.tar.gz /Library/Frameworks/R.framework/Resources/bin/R dks.buildbin-libdir StartedAt: 2023-10-16 09:18:16 -0400 (Mon, 16 Oct 2023) EndedAt: 2023-10-16 09:18:23 -0400 (Mon, 16 Oct 2023) EllapsedTime: 7.3 seconds RetCode: 0 Status: OK PackageFile: dks_1.46.0.tgz PackageFileSize: 620.4 KiB