Package: derfinder Version: 1.34.0 Command: /Library/Frameworks/R.framework/Resources/bin/R CMD build --keep-empty-dirs --no-resave-data derfinder StartedAt: 2023-10-15 17:53:58 -0400 (Sun, 15 Oct 2023) EndedAt: 2023-10-15 18:06:25 -0400 (Sun, 15 Oct 2023) EllapsedTime: 747.4 seconds RetCode: 0 Status: OK PackageFile: derfinder_1.34.0.tar.gz PackageFileSize: 1.921 MiB