Package: densvis Version: 1.10.3 Command: /Library/Frameworks/R.framework/Resources/bin/R CMD INSTALL densvis StartedAt: 2023-10-15 15:10:26 -0400 (Sun, 15 Oct 2023) EndedAt: 2023-10-15 15:11:08 -0400 (Sun, 15 Oct 2023) EllapsedTime: 42.2 seconds RetCode: 0 Status: OK