Package: densvis Version: 1.10.3 Command: /Library/Frameworks/R.framework/Resources/bin/R CMD build --keep-empty-dirs --no-resave-data densvis StartedAt: 2023-10-15 17:53:10 -0400 (Sun, 15 Oct 2023) EndedAt: 2023-10-15 17:57:41 -0400 (Sun, 15 Oct 2023) EllapsedTime: 270.5 seconds RetCode: 0 Status: OK PackageFile: densvis_1.10.3.tar.gz PackageFileSize: 1.65 MiB