Package: decoupleR Version: 2.6.0 Command: /home/biocbuild/bbs-3.17-bioc/R/bin/R CMD build --keep-empty-dirs --no-resave-data decoupleR StartedAt: 2023-10-15 16:31:55 -0400 (Sun, 15 Oct 2023) EndedAt: 2023-10-15 16:36:29 -0400 (Sun, 15 Oct 2023) EllapsedTime: 273.4 seconds RetCode: 0 Status: OK PackageFile: decoupleR_2.6.0.tar.gz PackageFileSize: 4.208 MiB