Package: deconvR Version: 1.6.0 Command: /home/biocbuild/bbs-3.17-bioc/R/bin/R CMD build --keep-empty-dirs --no-resave-data deconvR StartedAt: 2023-10-15 16:31:54 -0400 (Sun, 15 Oct 2023) EndedAt: 2023-10-15 16:33:47 -0400 (Sun, 15 Oct 2023) EllapsedTime: 112.6 seconds RetCode: 0 Status: OK PackageFile: deconvR_1.6.0.tar.gz PackageFileSize: 3.789 MiB