Package: deconvR Version: 1.6.0 Command: /Library/Frameworks/R.framework/Resources/bin/R CMD check --install=check:deconvR.install-out.txt --library=/Library/Frameworks/R.framework/Resources/library --no-vignettes --timings deconvR_1.6.0.tar.gz StartedAt: 2023-10-16 00:41:31 -0400 (Mon, 16 Oct 2023) EndedAt: 2023-10-16 01:16:24 -0400 (Mon, 16 Oct 2023) EllapsedTime: 2092.5 seconds RetCode: 0 Status: OK CheckDir: deconvR.Rcheck Warnings: 0