Package: dearseq Version: 1.12.1 Command: /Library/Frameworks/R.framework/Resources/bin/R CMD check --install=check:dearseq.install-out.txt --library=/Library/Frameworks/R.framework/Resources/library --no-vignettes --timings dearseq_1.12.1.tar.gz StartedAt: 2023-10-16 00:38:17 -0400 (Mon, 16 Oct 2023) EndedAt: 2023-10-16 00:41:44 -0400 (Mon, 16 Oct 2023) EllapsedTime: 206.9 seconds RetCode: 0 Status: OK CheckDir: dearseq.Rcheck Warnings: 0