Package: ddCt Version: 1.56.0 Command: /home/biocbuild/bbs-3.17-bioc/R/bin/R CMD INSTALL ddCt StartedAt: 2023-10-15 15:12:17 -0400 (Sun, 15 Oct 2023) EndedAt: 2023-10-15 15:12:23 -0400 (Sun, 15 Oct 2023) EllapsedTime: 5.7 seconds RetCode: 0 Status: OK