Package: dagLogo Version: 1.38.0 Command: rm -rf dagLogo.buildbin-libdir && mkdir dagLogo.buildbin-libdir && /Users/biocbuild/BBS/utils/build-universal.sh dagLogo_1.38.0.tar.gz /Library/Frameworks/R.framework/Resources/bin/R dagLogo.buildbin-libdir StartedAt: 2023-10-16 09:14:33 -0400 (Mon, 16 Oct 2023) EndedAt: 2023-10-16 09:17:07 -0400 (Mon, 16 Oct 2023) EllapsedTime: 154.1 seconds RetCode: 0 Status: OK PackageFile: dagLogo_1.38.0.tgz PackageFileSize: 3.203 MiB