Package: cytoKernel Version: 1.6.0 Command: /home/biocbuild/bbs-3.17-bioc/R/bin/R CMD check --install=check:cytoKernel.install-out.txt --library=/home/biocbuild/bbs-3.17-bioc/R/site-library --timings cytoKernel_1.6.0.tar.gz StartedAt: 2023-10-15 20:34:06 -0400 (Sun, 15 Oct 2023) EndedAt: 2023-10-15 20:37:31 -0400 (Sun, 15 Oct 2023) EllapsedTime: 204.6 seconds RetCode: 0 Status: OK CheckDir: cytoKernel.Rcheck Warnings: 0