Package: cycle Version: 1.54.0 Command: /home/biocbuild/bbs-3.17-bioc/R/bin/R CMD INSTALL cycle StartedAt: 2023-10-15 15:11:40 -0400 (Sun, 15 Oct 2023) EndedAt: 2023-10-15 15:11:43 -0400 (Sun, 15 Oct 2023) EllapsedTime: 3.4 seconds RetCode: 0 Status: OK