Package: cycle Version: 1.54.0 Command: /home/biocbuild/bbs-3.17-bioc/R/bin/R CMD build --keep-empty-dirs --no-resave-data cycle StartedAt: 2023-10-15 16:29:34 -0400 (Sun, 15 Oct 2023) EndedAt: 2023-10-15 16:29:55 -0400 (Sun, 15 Oct 2023) EllapsedTime: 20.9 seconds RetCode: 0 Status: OK PackageFile: cycle_1.54.0.tar.gz PackageFileSize: 102.4 KiB