Package: customCMPdb Version: 1.10.0 Command: chmod a+r customCMPdb -R && F:\biocbuild\bbs-3.17-bioc\R\bin\R.exe CMD build --keep-empty-dirs --no-resave-data customCMPdb StartedAt: 2023-10-15 18:28:17 -0400 (Sun, 15 Oct 2023) EndedAt: 2023-10-15 18:38:00 -0400 (Sun, 15 Oct 2023) EllapsedTime: 582.5 seconds RetCode: 0 Status: OK PackageFile: customCMPdb_1.10.0.tar.gz PackageFileSize: 650.6 KiB