Package: csaw Version: 1.34.0 Command: /home/biocbuild/bbs-3.17-bioc/R/bin/R CMD check --install=check:csaw.install-out.txt --library=/home/biocbuild/bbs-3.17-bioc/R/site-library --timings csaw_1.34.0.tar.gz StartedAt: 2023-10-15 20:29:51 -0400 (Sun, 15 Oct 2023) EndedAt: 2023-10-15 20:37:10 -0400 (Sun, 15 Oct 2023) EllapsedTime: 438.9 seconds RetCode: 0 Status: WARNINGS CheckDir: csaw.Rcheck Warnings: 2