Package: csaw Version: 1.34.0 Command: /Library/Frameworks/R.framework/Resources/bin/R CMD check --install=check:csaw.install-out.txt --library=/Library/Frameworks/R.framework/Resources/library --no-vignettes --timings csaw_1.34.0.tar.gz StartedAt: 2023-10-16 00:25:59 -0400 (Mon, 16 Oct 2023) EndedAt: 2023-10-16 00:46:57 -0400 (Mon, 16 Oct 2023) EllapsedTime: 1258.3 seconds RetCode: 0 Status: WARNINGS CheckDir: csaw.Rcheck Warnings: 2