Package: crossmeta Version: 1.26.0 Command: chmod a+r crossmeta -R && F:\biocbuild\bbs-3.17-bioc\R\bin\R.exe CMD build --keep-empty-dirs --no-resave-data crossmeta StartedAt: 2023-10-15 18:26:00 -0400 (Sun, 15 Oct 2023) EndedAt: 2023-10-15 18:29:55 -0400 (Sun, 15 Oct 2023) EllapsedTime: 234.9 seconds RetCode: 0 Status: OK PackageFile: crossmeta_1.26.0.tar.gz PackageFileSize: 2.951 MiB