Package: crossmeta Version: 1.26.0 Command: rm -rf crossmeta.buildbin-libdir && mkdir crossmeta.buildbin-libdir && F:\biocbuild\bbs-3.17-bioc\R\bin\R.exe CMD INSTALL --build --library=crossmeta.buildbin-libdir crossmeta_1.26.0.tar.gz StartedAt: 2023-10-16 08:38:55 -0400 (Mon, 16 Oct 2023) EndedAt: 2023-10-16 08:39:16 -0400 (Mon, 16 Oct 2023) EllapsedTime: 21.0 seconds RetCode: 0 Status: OK PackageFile: crossmeta_1.26.0.zip PackageFileSize: 2.777 MiB