Package: crisprViz Version: 1.2.0 Command: /Library/Frameworks/R.framework/Resources/bin/R CMD check --install=check:crisprViz.install-out.txt --library=/Library/Frameworks/R.framework/Resources/library --no-vignettes --timings crisprViz_1.2.0.tar.gz StartedAt: 2023-10-16 00:24:40 -0400 (Mon, 16 Oct 2023) EndedAt: 2023-10-16 00:42:02 -0400 (Mon, 16 Oct 2023) EllapsedTime: 1041.6 seconds RetCode: 0 Status: OK CheckDir: crisprViz.Rcheck Warnings: 0