Package: crisprScore Version: 1.4.0 Command: F:\biocbuild\bbs-3.17-bioc\R\bin\R.exe CMD INSTALL crisprScore StartedAt: 2023-10-15 17:04:39 -0400 (Sun, 15 Oct 2023) EndedAt: 2023-10-15 17:05:15 -0400 (Sun, 15 Oct 2023) EllapsedTime: 35.6 seconds RetCode: 0 Status: OK