Package: crisprScore Version: 1.4.0 Command: chmod a+r crisprScore -R && F:\biocbuild\bbs-3.17-bioc\R\bin\R.exe --arch x64 CMD build --keep-empty-dirs --no-resave-data crisprScore StartedAt: 2023-10-15 18:24:53 -0400 (Sun, 15 Oct 2023) EndedAt: 2023-10-15 18:25:34 -0400 (Sun, 15 Oct 2023) EllapsedTime: 41.2 seconds RetCode: 0 Status: OK PackageFile: crisprScore_1.4.0.tar.gz PackageFileSize: 4.437 MiB