Package: crisprScore Version: 1.4.0 Command: rm -rf crisprScore.buildbin-libdir && mkdir crisprScore.buildbin-libdir && F:\biocbuild\bbs-3.17-bioc\R\bin\R.exe CMD INSTALL --build --library=crisprScore.buildbin-libdir crisprScore_1.4.0.tar.gz StartedAt: 2023-10-16 08:38:39 -0400 (Mon, 16 Oct 2023) EndedAt: 2023-10-16 08:39:12 -0400 (Mon, 16 Oct 2023) EllapsedTime: 33.5 seconds RetCode: 0 Status: OK PackageFile: crisprScore_1.4.0.zip PackageFileSize: 4.396 MiB