Package: crisprDesign Version: 1.2.0 Command: rm -rf crisprDesign.buildbin-libdir && mkdir crisprDesign.buildbin-libdir && F:\biocbuild\bbs-3.17-bioc\R\bin\R.exe CMD INSTALL --build --library=crisprDesign.buildbin-libdir crisprDesign_1.2.0.tar.gz StartedAt: 2023-10-16 08:38:37 -0400 (Mon, 16 Oct 2023) EndedAt: 2023-10-16 08:39:57 -0400 (Mon, 16 Oct 2023) EllapsedTime: 80.3 seconds RetCode: 0 Status: OK PackageFile: crisprDesign_1.2.0.zip PackageFileSize: 3.557 MiB