Package: crisprDesign Version: 1.2.0 Command: /home/biocbuild/bbs-3.17-bioc/R/bin/R CMD INSTALL crisprDesign StartedAt: 2023-10-15 15:50:16 -0400 (Sun, 15 Oct 2023) EndedAt: 2023-10-15 15:51:07 -0400 (Sun, 15 Oct 2023) EllapsedTime: 51.4 seconds RetCode: 0 Status: OK