Package: crisprDesign Version: 1.2.0 Command: /Library/Frameworks/R.framework/Resources/bin/R CMD build --keep-empty-dirs --no-resave-data crisprDesign StartedAt: 2023-10-15 17:41:37 -0400 (Sun, 15 Oct 2023) EndedAt: 2023-10-15 17:45:35 -0400 (Sun, 15 Oct 2023) EllapsedTime: 237.9 seconds RetCode: 0 Status: OK PackageFile: crisprDesign_1.2.0.tar.gz PackageFileSize: 2.56 MiB