Package: crisprBowtie Version: 1.4.0 Command: /Library/Frameworks/R.framework/Resources/bin/R CMD INSTALL crisprBowtie StartedAt: 2023-10-15 15:35:23 -0400 (Sun, 15 Oct 2023) EndedAt: 2023-10-15 15:37:00 -0400 (Sun, 15 Oct 2023) EllapsedTime: 96.5 seconds RetCode: 0 Status: OK