Package: cpvSNP Version: 1.32.0 Command: /home/biocbuild/bbs-3.17-bioc/R/bin/R CMD INSTALL cpvSNP StartedAt: 2023-10-15 15:22:17 -0400 (Sun, 15 Oct 2023) EndedAt: 2023-10-15 15:22:58 -0400 (Sun, 15 Oct 2023) EllapsedTime: 41.9 seconds RetCode: 0 Status: OK