Package: concordexR Version: 1.0.0 Command: /Library/Frameworks/R.framework/Resources/bin/R CMD INSTALL concordexR StartedAt: 2023-10-15 15:31:41 -0400 (Sun, 15 Oct 2023) EndedAt: 2023-10-15 15:32:48 -0400 (Sun, 15 Oct 2023) EllapsedTime: 66.8 seconds RetCode: 0 Status: OK