Package: concordexR Version: 1.0.0 Command: /Library/Frameworks/R.framework/Resources/bin/R CMD build --keep-empty-dirs --no-resave-data concordexR StartedAt: 2023-10-15 17:35:52 -0400 (Sun, 15 Oct 2023) EndedAt: 2023-10-15 17:38:22 -0400 (Sun, 15 Oct 2023) EllapsedTime: 150.4 seconds RetCode: 0 Status: OK PackageFile: concordexR_1.0.0.tar.gz PackageFileSize: 1.471 MiB