Package: concordexR Version: 1.0.0 Command: rm -rf concordexR.buildbin-libdir && mkdir concordexR.buildbin-libdir && /Users/biocbuild/BBS/utils/build-universal.sh concordexR_1.0.0.tar.gz /Library/Frameworks/R.framework/Resources/bin/R concordexR.buildbin-libdir StartedAt: 2023-10-16 09:11:36 -0400 (Mon, 16 Oct 2023) EndedAt: 2023-10-16 09:12:26 -0400 (Mon, 16 Oct 2023) EllapsedTime: 49.8 seconds RetCode: 0 Status: OK PackageFile: concordexR_1.0.0.tgz PackageFileSize: 1.483 MiB