Package: compartmap Version: 1.18.0 Command: chmod a+r compartmap -R && F:\biocbuild\bbs-3.17-bioc\R\bin\R.exe CMD build --keep-empty-dirs --no-resave-data compartmap StartedAt: 2023-10-15 18:19:02 -0400 (Sun, 15 Oct 2023) EndedAt: 2023-10-15 18:21:01 -0400 (Sun, 15 Oct 2023) EllapsedTime: 118.3 seconds RetCode: 0 Status: OK PackageFile: compartmap_1.18.0.tar.gz PackageFileSize: 3.385 MiB