Package: cogena Version: 1.34.0 Command: rm -rf cogena.buildbin-libdir && mkdir cogena.buildbin-libdir && /Users/biocbuild/BBS/utils/build-universal.sh cogena_1.34.0.tar.gz /Library/Frameworks/R.framework/Resources/bin/R cogena.buildbin-libdir StartedAt: 2023-10-16 09:11:01 -0400 (Mon, 16 Oct 2023) EndedAt: 2023-10-16 09:11:54 -0400 (Mon, 16 Oct 2023) EllapsedTime: 53.2 seconds RetCode: 0 Status: OK PackageFile: cogena_1.34.0.tgz PackageFileSize: 7.347 MiB