Package: codelink Version: 1.68.0 Command: rm -rf codelink.buildbin-libdir && mkdir codelink.buildbin-libdir && /Users/biocbuild/BBS/utils/build-universal.sh codelink_1.68.0.tar.gz /Library/Frameworks/R.framework/Resources/bin/R codelink.buildbin-libdir StartedAt: 2023-10-16 09:10:59 -0400 (Mon, 16 Oct 2023) EndedAt: 2023-10-16 09:12:01 -0400 (Mon, 16 Oct 2023) EllapsedTime: 61.7 seconds RetCode: 0 Status: OK PackageFile: codelink_1.68.0.tgz PackageFileSize: 3.578 MiB