Package: clusterExperiment Version: 2.20.0 Command: /Library/Frameworks/R.framework/Resources/bin/R CMD INSTALL clusterExperiment StartedAt: 2023-10-15 16:16:39 -0400 (Sun, 15 Oct 2023) EndedAt: 2023-10-15 16:20:51 -0400 (Sun, 15 Oct 2023) EllapsedTime: 251.6 seconds RetCode: 0 Status: OK