Package: clipper Version: 1.40.0 Command: /Library/Frameworks/R.framework/Resources/bin/R CMD build --keep-empty-dirs --no-resave-data clipper StartedAt: 2023-10-15 17:27:13 -0400 (Sun, 15 Oct 2023) EndedAt: 2023-10-15 17:29:24 -0400 (Sun, 15 Oct 2023) EllapsedTime: 131.0 seconds RetCode: 1 Status: ERROR PackageFile: None PackageFileSize: NA