Package: clevRvis Version: 1.0.0 Command: rm -rf clevRvis.buildbin-libdir && mkdir clevRvis.buildbin-libdir && /Users/biocbuild/BBS/utils/build-universal.sh clevRvis_1.0.0.tar.gz /Library/Frameworks/R.framework/Resources/bin/R clevRvis.buildbin-libdir StartedAt: 2023-10-16 09:09:21 -0400 (Mon, 16 Oct 2023) EndedAt: 2023-10-16 09:09:59 -0400 (Mon, 16 Oct 2023) EllapsedTime: 37.9 seconds RetCode: 0 Status: OK PackageFile: clevRvis_1.0.0.tgz PackageFileSize: 2.422 MiB