Package: chopsticks Version: 1.66.0 Command: rm -rf chopsticks.buildbin-libdir && mkdir chopsticks.buildbin-libdir && F:\biocbuild\bbs-3.17-bioc\R\bin\R.exe CMD INSTALL --build --library=chopsticks.buildbin-libdir chopsticks_1.66.0.tar.gz StartedAt: 2023-10-16 08:34:32 -0400 (Mon, 16 Oct 2023) EndedAt: 2023-10-16 08:35:05 -0400 (Mon, 16 Oct 2023) EllapsedTime: 32.9 seconds RetCode: 0 Status: OK PackageFile: chopsticks_1.66.0.zip PackageFileSize: 5.322 MiB