Package: chopsticks Version: 1.66.0 Command: /home/biocbuild/bbs-3.17-bioc/R/bin/R CMD build --keep-empty-dirs --no-resave-data chopsticks StartedAt: 2023-10-15 16:17:49 -0400 (Sun, 15 Oct 2023) EndedAt: 2023-10-15 16:18:14 -0400 (Sun, 15 Oct 2023) EllapsedTime: 25.3 seconds RetCode: 0 Status: OK PackageFile: chopsticks_1.66.0.tar.gz PackageFileSize: 6.555 MiB