Package: cardelino Version: 1.2.0 Command: chmod a+r cardelino -R && F:\biocbuild\bbs-3.17-bioc\R\bin\R.exe CMD build --keep-empty-dirs --no-resave-data cardelino StartedAt: 2023-10-15 17:54:17 -0400 (Sun, 15 Oct 2023) EndedAt: 2023-10-15 17:55:52 -0400 (Sun, 15 Oct 2023) EllapsedTime: 95.2 seconds RetCode: 0 Status: OK PackageFile: cardelino_1.2.0.tar.gz PackageFileSize: 3.095 MiB