Package: cTRAP Version: 1.18.0 Command: /home/biocbuild/bbs-3.17-bioc/R/bin/R CMD check --install=check:cTRAP.install-out.txt --library=/home/biocbuild/bbs-3.17-bioc/R/site-library --timings cTRAP_1.18.0.tar.gz StartedAt: 2023-10-15 20:30:42 -0400 (Sun, 15 Oct 2023) EndedAt: 2023-10-15 20:43:36 -0400 (Sun, 15 Oct 2023) EllapsedTime: 774.2 seconds RetCode: 0 Status: OK CheckDir: cTRAP.Rcheck Warnings: 0