Package: bugsigdbr Version: 1.6.6 Command: /home/biocbuild/bbs-3.17-bioc/R/bin/R CMD build --keep-empty-dirs --no-resave-data bugsigdbr StartedAt: 2023-10-15 16:10:01 -0400 (Sun, 15 Oct 2023) EndedAt: 2023-10-15 16:10:18 -0400 (Sun, 15 Oct 2023) EllapsedTime: 16.6 seconds RetCode: 0 Status: OK PackageFile: bugsigdbr_1.6.6.tar.gz PackageFileSize: 327.4 KiB