Package: bugsigdbr Version: 1.6.6 Command: /Library/Frameworks/R.framework/Resources/bin/R CMD check --install=check:bugsigdbr.install-out.txt --library=/Library/Frameworks/R.framework/Resources/library --no-vignettes --timings bugsigdbr_1.6.6.tar.gz StartedAt: 2023-10-15 23:20:09 -0400 (Sun, 15 Oct 2023) EndedAt: 2023-10-15 23:23:57 -0400 (Sun, 15 Oct 2023) EllapsedTime: 228.6 seconds RetCode: 1 Status: ERROR CheckDir: bugsigdbr.Rcheck Warnings: NA