Package: bugsigdbr Version: 1.6.6 Command: /Library/Frameworks/R.framework/Resources/bin/R CMD build --keep-empty-dirs --no-resave-data bugsigdbr StartedAt: 2023-10-15 17:09:47 -0400 (Sun, 15 Oct 2023) EndedAt: 2023-10-15 17:10:27 -0400 (Sun, 15 Oct 2023) EllapsedTime: 40.0 seconds RetCode: 0 Status: OK PackageFile: bugsigdbr_1.6.6.tar.gz PackageFileSize: 327.3 KiB