Package: bsseq Version: 1.36.0 Command: rm -rf bsseq.buildbin-libdir && mkdir bsseq.buildbin-libdir && F:\biocbuild\bbs-3.17-bioc\R\bin\R.exe CMD INSTALL --build --library=bsseq.buildbin-libdir bsseq_1.36.0.tar.gz StartedAt: 2023-10-16 08:30:59 -0400 (Mon, 16 Oct 2023) EndedAt: 2023-10-16 08:32:18 -0400 (Mon, 16 Oct 2023) EllapsedTime: 79.0 seconds RetCode: 0 Status: OK PackageFile: bsseq_1.36.0.zip PackageFileSize: 3.79 MiB