Package: bsseq Version: 1.36.0 Command: /Library/Frameworks/R.framework/Resources/bin/R CMD INSTALL bsseq StartedAt: 2023-10-15 15:34:51 -0400 (Sun, 15 Oct 2023) EndedAt: 2023-10-15 15:38:38 -0400 (Sun, 15 Oct 2023) EllapsedTime: 226.7 seconds RetCode: 0 Status: OK