Package: brendaDb Version: 1.14.0 Command: /Library/Frameworks/R.framework/Resources/bin/R CMD check --install=check:brendaDb.install-out.txt --library=/Library/Frameworks/R.framework/Resources/library --no-vignettes --timings brendaDb_1.14.0.tar.gz StartedAt: 2023-10-15 23:16:31 -0400 (Sun, 15 Oct 2023) EndedAt: 2023-10-15 23:19:30 -0400 (Sun, 15 Oct 2023) EllapsedTime: 179.0 seconds RetCode: 0 Status: OK CheckDir: brendaDb.Rcheck Warnings: 0